BEGIN:VCALENDAR
VERSION:2.0
PRODID:-//eventon.com NONSGML v1.0//EN
CALSCALE:GREGORIAN
METHOD:PUBLISH
BEGIN:VEVENT
UID:69e796388d676
DTSTAMP:20260421T152232Z
DTSTART:20250628T163000Z
DTEND:20250628T180000Z
LOCATION:
SUMMARY:Au fil des notes
DESCRIPTION:Ballade musicale entre cordes et vents Au fil de la soirée\,  
 laissez-vous emporter par une succession de duos et trios où la flûte tra
 versière\,  le piano\,  la guitare et le violon tissent ensemble des insta
 nts de poésie musicale. Entrée : gratuite sur réservation\nhttps://loffi
 cieldepaimboeuf.com/events/concert-au-fil-des-notes/
URL:https://lofficieldepaimboeuf.com/events/concert-au-fil-des-notes/
END:VEVENT
END:VCALENDAR