BEGIN:VCALENDAR
VERSION:2.0
PRODID:-//eventon.com NONSGML v1.0//EN
CALSCALE:GREGORIAN
METHOD:PUBLISH
BEGIN:VEVENT
UID:69e762b85d2c4
DTSTAMP:20260421T114248Z
DTSTART:20250515T203000Z
DTEND:20250515T213000Z
LOCATION:
SUMMARY:Diwan de Biskra
DESCRIPTION:Le Diwan de Biskra\,  ensemble traditionnel de musiciens gnawa 
 d’Algérie\,  vous invite à un voyage musical unique. Au rythme des chan
 ts à répondre\,  des percussions envoûtantes et des instruments à vent\
 ,  cette rencontre promet un métissage vibrant. En écho aux traditions br
 etonnes\,  cette soirée sera marquée par une fusion inédite[..]\nhttps:/
 /lofficieldepaimboeuf.com/events/concert-du-diwan-de-biskra/
URL:https://lofficieldepaimboeuf.com/events/concert-du-diwan-de-biskra/
END:VEVENT
END:VCALENDAR