BEGIN:VCALENDAR
VERSION:2.0
PRODID:-//eventon.com NONSGML v1.0//EN
CALSCALE:GREGORIAN
METHOD:PUBLISH
BEGIN:VEVENT
UID:69e76324d8b88
DTSTAMP:20260421T114436Z
DTSTART:20250414T140000Z
DTEND:20250414T180000Z
LOCATION:
SUMMARY:Balade à vélo
DESCRIPTION:Lors de cet après-midi sportif\,  la Maison des Jeunes vous in
 vite à venir vous promener avec elle et les jeunes gens lors d’une balad
 e à vélo\,  idéale pour tous les niveaux. Un moment de détente et de pa
 rtage à ne pas manquer. Gratuit - ouvert à tous dès huit ans[..]\nhttps:
 //lofficieldepaimboeuf.com/events/balade-a-velo/
URL:https://lofficieldepaimboeuf.com/events/balade-a-velo/
END:VEVENT
END:VCALENDAR