BEGIN:VCALENDAR
VERSION:2.0
PRODID:-//eventon.com NONSGML v1.0//EN
CALSCALE:GREGORIAN
METHOD:PUBLISH
BEGIN:VEVENT
UID:69e763da5b088
DTSTAMP:20260421T114738Z
DTSTART:20250620T203000Z
DTEND:20250620T220000Z
LOCATION:
SUMMARY:Pop Crimes
DESCRIPTION:Indie Rock aux influences 90's pouvant évoquer les Pixies\,  P
 avement ou Yo la Tengo\,  et puis aussi des choses plus 70's comme les Dogs
  ou les Flamin' Groovies...\nhttps://lofficieldepaimboeuf.com/events/pop-cr
 imes/
URL:https://lofficieldepaimboeuf.com/events/pop-crimes/
END:VEVENT
END:VCALENDAR