BEGIN:VCALENDAR
VERSION:2.0
PRODID:-//eventon.com NONSGML v1.0//EN
CALSCALE:GREGORIAN
METHOD:PUBLISH
BEGIN:VEVENT
UID:69e7638c64362
DTSTAMP:20260421T114620Z
DTSTART:20250322T203000Z
DTEND:20250322T213000Z
LOCATION:
SUMMARY:Jean-Gabriel Périot
DESCRIPTION:Projection de deux courts métrages de Jean-Gabriel Périot Si 
 jamais nous devions disparaitre ce sera sans inquiétude mais en combattant
  jusqu'à la fin\,  2014\,  15' De la joie dans ce combat\,  2018\,  22' En
  ces temps sombres\,  il nous faut de la lumière. Nous consacrons cette so
 irée à deux films[..]\nhttps://lofficieldepaimboeuf.com/events/jean-gabri
 el-periot/
URL:https://lofficieldepaimboeuf.com/events/jean-gabriel-periot/
END:VEVENT
END:VCALENDAR