BEGIN:VCALENDAR
VERSION:2.0
PRODID:-//eventon.com NONSGML v1.0//EN
CALSCALE:GREGORIAN
METHOD:PUBLISH
BEGIN:VEVENT
UID:69e7968c41b20
DTSTAMP:20260421T152356Z
DTSTART:20250503T203000Z
DTEND:20250503T220000Z
LOCATION:
SUMMARY:Mélys
DESCRIPTION:Mélys\nhttps://lofficieldepaimboeuf.com/events/melys/
URL:https://lofficieldepaimboeuf.com/events/melys/
END:VEVENT
END:VCALENDAR