BEGIN:VCALENDAR
VERSION:2.0
PRODID:-//eventon.com NONSGML v1.0//EN
CALSCALE:GREGORIAN
METHOD:PUBLISH
BEGIN:VEVENT
UID:69e763a0bd4ad
DTSTAMP:20260421T114640Z
DTSTART:20250316T180000Z
DTEND:20250316T220000Z
LOCATION:
SUMMARY:Session irlandaise pour la Saint Patrick
DESCRIPTION:Session irlandaise pour la Saint Patrick\nhttps://lofficieldepa
 imboeuf.com/events/session-irlandaise-pour-la-saint-patrick/
URL:https://lofficieldepaimboeuf.com/events/session-irlandaise-pour-la-saint-patrick/
END:VEVENT
END:VCALENDAR