BEGIN:VCALENDAR
VERSION:2.0
PRODID:-//eventon.com NONSGML v1.0//EN
CALSCALE:GREGORIAN
METHOD:PUBLISH
BEGIN:VEVENT
UID:69e763a17360a
DTSTAMP:20260421T114641Z
DTSTART:20250906
DTEND:20250907
LOCATION:
SUMMARY:Détours à Paimbœuf\,  les dix ans
DESCRIPTION:Programme complet Festival de Paimbœuf organisé conjointement
  par la ville de Paimbœuf et les associations Territoires Imaginaires et R
 ésonance. Au programme\,  déambulations théâtrales\,  expériences\,  p
 erformances artistiques\,  banquet et concert. Depuis dix ans\,  la Ville d
 e Paimbœuf et Territoires imaginaires explorent la commune pour faire éme
 rger les arts là où on[..]\nhttps://lofficieldepaimboeuf.com/events/detou
 rs-a-paimboeuf/
URL:https://lofficieldepaimboeuf.com/events/detours-a-paimboeuf/
END:VEVENT
END:VCALENDAR