BEGIN:VCALENDAR
VERSION:2.0
PRODID:-//eventon.com NONSGML v1.0//EN
CALSCALE:GREGORIAN
METHOD:PUBLISH
BEGIN:VEVENT
UID:69e79657053a7
DTSTAMP:20260421T152303Z
DTSTART:20250510T203000Z
DTEND:20250510T220000Z
LOCATION:
SUMMARY:The Healthy Boy
DESCRIPTION:The Healthy Boy de retour au Café de la Loire.\nhttps://loffic
 ieldepaimboeuf.com/events/the-healthy-boy/
URL:https://lofficieldepaimboeuf.com/events/the-healthy-boy/
END:VEVENT
END:VCALENDAR