BEGIN:VCALENDAR
VERSION:2.0
PRODID:-//eventon.com NONSGML v1.0//EN
CALSCALE:GREGORIAN
METHOD:PUBLISH
BEGIN:VEVENT
UID:69e763db6517d
DTSTAMP:20260421T114739Z
DTSTART:20250913T203000Z
DTEND:20250913T213000Z
LOCATION:
SUMMARY:Le Plein de Super
DESCRIPTION:Le bus de La boite carrée stationnera près du Hangar\,  quai 
 Sadi Carnot\,  pour la désormais traditionnelle séance de courts-métrage
 s du festival Le Plein de Super !Entrée libre. Les infos ici! https://yout
 u.be/pPhOT6OPofg\nhttps://lofficieldepaimboeuf.com/events/le-plein-de-super
 -les-10-ans/
URL:https://lofficieldepaimboeuf.com/events/le-plein-de-super-les-10-ans/
END:VEVENT
END:VCALENDAR